{"text_format":"3","workbook":"xlsx","n_sheets":1,"sheets":["тестовый"],"not_rendered":{"external_links":2},"read":"whole","date_system":"1900"}

{"sheet":"тестовый","index":0,"n_rows":181,"n_cols":13,"rows_kept":181,"merged":[[0,0,0,12]]}
["Протокол по итогам муниципального этапа ВсОШ по предмету \"РУССКИЙ ЯЗЫК\"  Альметьевский муниципального района в 2019-2020 учебном году "]
["№ п/п","Муниципалитет","Полное наименование образовательного учреждения (по уставу)","Фамилия","Имя","Класс","Дата рождения","Пол","Балл","Апеляционный балл","Итоговый балл","Максимальный балл","Статус"]
[{"$f":"[1]Лист1!B4","v":1},"Альметьевский",{"$f":"[1]Лист1!C4","v":"МАОУ – лицей №2"},{"$f":"[1]Лист1!D4","v":"Мухамадеева"},{"$f":"[1]Лист1!E4","v":"Самира"},{"$f":"[1]Лист1!H4","v":5},null,null,{"$f":"[1]Лист1!I4","v":30.5},{"$f":"[2]тестовый!K117","v":1.5},{"$f":"[2]тестовый!L117","v":32},48,{"$f":"$M$4","v":"призер"}]
[{"$f":"[1]Лист1!B5","v":2},{"$f":"$B$3","v":"Альметьевский"},{"$f":"[1]Лист1!C5","v":"МАОУ «СОШ №10 с углубленным изучением отдельных предметов»"},{"$f":"[1]Лист1!D5","v":"Габдрахманова"},{"$f":"[1]Лист1!E5","v":"Элина"},{"$f":"[1]Лист1!H5","v":5},null,null,{"$f":"[1]Лист1!I5","v":24},null,null,{"$f":"$L$3","v":48},{"$f":"[1]Лист1!J5","v":"призер"}]
[{"$f":"[1]Лист1!B6","v":3},"Альметьевский",{"$f":"[1]Лист1!C6","v":"МБОУ «СОШ№24»"},{"$f":"[1]Лист1!D6","v":"Васенькина"},{"$f":"[1]Лист1!E6","v":"Анна "},{"$f":"[1]Лист1!H6","v":5},null,null,{"$f":"[1]Лист1!I6","v":21},null,null,48,"участник"]
[{"$f":"[1]Лист1!B7","v":4},"Альметьевский",{"$f":"[1]Лист1!C7","v":"ЧОУ СШ №23 \"Менеджер\""},{"$f":"[1]Лист1!D7","v":"Михеев"},{"$f":"[1]Лист1!E7","v":"Дмитрий"},{"$f":"[1]Лист1!H7","v":5},null,null,{"$f":"[1]Лист1!I7","v":17.5},null,null,48,{"$f":"$M$5","v":"участник"}]
[{"$f":"[1]Лист1!B8","v":5},"Альметьевский",{"$f":"[1]Лист1!C8","v":"МАОУ Гимназия №5"},{"$f":"[1]Лист1!D8","v":"Депутатова"},{"$f":"[1]Лист1!E8","v":"Ариадна"},{"$f":"[1]Лист1!H8","v":5},null,null,{"$f":"[1]Лист1!I8","v":17.5},null,null,48,"участник"]
[{"$f":"[1]Лист1!B9","v":6},"Альметьевский",{"$f":"[1]Лист1!C9","v":"МБОУ «СОШ№13»"},{"$f":"[1]Лист1!D9","v":"Комолкин"},{"$f":"[1]Лист1!E9","v":"Илья"},{"$f":"[1]Лист1!H9","v":5},null,null,{"$f":"[1]Лист1!I9","v":15},null,null,48,"участник"]
[{"$f":"[1]Лист1!B10","v":7},"Альметьевский",{"$f":"[1]Лист1!C10","v":"МАОУ Гимназия №5"},{"$f":"[1]Лист1!D10","v":"Гарипова"},{"$f":"[1]Лист1!E10","v":"Марьям"},{"$f":"[1]Лист1!H10","v":5},null,null,{"$f":"[1]Лист1!I10","v":15},null,null,48,"участник"]
[{"$f":"[1]Лист1!B11","v":8},"Альметьевский",{"$f":"[1]Лист1!C11","v":"МБОУ «Гимназия №1 им.Р.Фахретдина»"},{"$f":"[1]Лист1!D11","v":"Бильданова"},{"$f":"[1]Лист1!E11","v":"Амина"},{"$f":"[1]Лист1!H11","v":5},null,null,{"$f":"[1]Лист1!I11","v":13},null,null,48,"участник"]
[{"$f":"[1]Лист1!B12","v":9},"Альметьевский",{"$f":"[1]Лист1!C12","v":"МАОУ Гимназия №5"},{"$f":"[1]Лист1!D12","v":"Гайнанова"},{"$f":"[1]Лист1!E12","v":"Элеонора"},{"$f":"[1]Лист1!H12","v":5},null,null,{"$f":"[1]Лист1!I12","v":13},null,null,48,"участник"]
[{"$f":"[1]Лист1!B13","v":10},"Альметьевский",{"$f":"[1]Лист1!C13","v":"МБОУ «СОШ №11»"},{"$f":"[1]Лист1!D13","v":"Абзалова"},{"$f":"[1]Лист1!E13","v":"Лиана"},{"$f":"[1]Лист1!H13","v":5},null,null,{"$f":"[1]Лист1!I13","v":12},null,null,48,"участник"]
[{"$f":"[1]Лист1!B14","v":11},"Альметьевский",{"$f":"[1]Лист1!C14","v":"МАОУ «СОШ № 17»"},{"$f":"[1]Лист1!D14","v":"Миркасимова"},{"$f":"[1]Лист1!E14","v":"Сабина"},{"$f":"[1]Лист1!H14","v":5},null,null,{"$f":"[1]Лист1!I14","v":12},null,null,48,"участник"]
[{"$f":"[1]Лист1!B15","v":12},"Альметьевский",{"$f":"[1]Лист1!C15","v":"МБОУ «СОШ№24»"},{"$f":"[1]Лист1!D15","v":"Биккенина"},{"$f":"[1]Лист1!E15","v":"Карина"},{"$f":"[1]Лист1!H15","v":5},null,null,{"$f":"[1]Лист1!I15","v":12},null,null,48,"участник"]
[{"$f":"[1]Лист1!B16","v":13},"Альметьевский",{"$f":"[1]Лист1!C16","v":"МАОУ «СОШ №10 с углубленным изучением отдельных предметов»"},{"$f":"[1]Лист1!D16","v":"Надыршина"},{"$f":"[1]Лист1!E16","v":"Алина "},{"$f":"[1]Лист1!H16","v":5},null,null,{"$f":"[1]Лист1!I16","v":11.5},null,null,48,"участник"]
[{"$f":"[1]Лист1!B17","v":14},"Альметьевский",{"$f":"[1]Лист1!C17","v":"МАОУ – лицей №2"},{"$f":"[1]Лист1!D17","v":"Сафиуллина"},{"$f":"[1]Лист1!E17","v":"Диана"},{"$f":"[1]Лист1!H17","v":5},null,null,{"$f":"[1]Лист1!I17","v":10.5},null,null,48,"участник"]
[{"$f":"[1]Лист1!B18","v":15},"Альметьевский",{"$f":"[1]Лист1!C18","v":"МБОУ «СОШ№13»"},{"$f":"[1]Лист1!D18","v":"Шарова"},{"$f":"[1]Лист1!E18","v":"Яна"},{"$f":"[1]Лист1!H18","v":5},null,null,{"$f":"[1]Лист1!I18","v":10},null,null,48,"участник"]
[{"$f":"[1]Лист1!B19","v":16},"Альметьевский",{"$f":"[1]Лист1!C19","v":"МБОУ«СОШ №1 им. М.К.Тагирова» "},{"$f":"[1]Лист1!D19","v":"Ившина"},{"$f":"[1]Лист1!E19","v":"Елена"},{"$f":"[1]Лист1!H19","v":5},null,null,{"$f":"[1]Лист1!I19","v":9},null,null,48,"участник"]
[{"$f":"[1]Лист1!B20","v":17},"Альметьевский",{"$f":"[1]Лист1!C20","v":"МБОУ «СОШ№13»"},{"$f":"[1]Лист1!D20","v":"Семенов"},{"$f":"[1]Лист1!E20","v":"Дмитрий"},{"$f":"[1]Лист1!H20","v":5},null,null,{"$f":"[1]Лист1!I20","v":7.5},null,null,48,"участник"]
[{"$f":"[1]Лист1!B21","v":18},"Альметьевский",{"$f":"[1]Лист1!C21","v":"МБОУ «Нижнемактаминская СОШ №2»"},{"$f":"[1]Лист1!D21","v":"Будилина"},{"$f":"[1]Лист1!E21","v":"Вероника"},{"$f":"[1]Лист1!H21","v":5},null,null,{"$f":"[1]Лист1!I21","v":7},null,null,48,"участник"]
[{"$f":"[1]Лист1!B22","v":19},"Альметьевский",{"$f":"[1]Лист1!C22","v":"МБОУ \"СОШ №6\""},{"$f":"[1]Лист1!D22","v":"Гараева"},{"$f":"[1]Лист1!E22","v":"Валерия"},{"$f":"[1]Лист1!H22","v":5},null,null,{"$f":"[1]Лист1!I22","v":6.5},null,null,48,"участник"]
[{"$f":"[1]Лист1!B23","v":20},"Альметьевский",{"$f":"[1]Лист1!C23","v":"МБОУ «СОШ№12»"},{"$f":"[1]Лист1!D23","v":"Шарафеева"},{"$f":"[1]Лист1!E23","v":"Эмилия "},{"$f":"[1]Лист1!H23","v":5},null,null,{"$f":"[1]Лист1!I23","v":6.5},null,null,48,"участник"]
[{"$f":"[1]Лист1!B24","v":21},"Альметьевский",{"$f":"[1]Лист1!C24","v":"МБОУ «Нижнемактаминская СОШ №1»"},{"$f":"[1]Лист1!D24","v":"Давлетшина"},{"$f":"[1]Лист1!E24","v":"Ильвина"},{"$f":"[1]Лист1!H24","v":5},null,null,{"$f":"[1]Лист1!I24","v":6},null,null,48,"участник"]
[{"$f":"[1]Лист1!B25","v":22},"Альметьевский",{"$f":"[1]Лист1!C25","v":"МБОУ «Нижнемактаминская СОШ №2»"},{"$f":"[1]Лист1!D25","v":"Козин "},{"$f":"[1]Лист1!E25","v":"Виталий"},{"$f":"[1]Лист1!H25","v":5},null,null,{"$f":"[1]Лист1!I25","v":5.5},null,null,48,"участник"]
[{"$f":"[1]Лист1!B26","v":23},"Альметьевский",{"$f":"[1]Лист1!C26","v":"МАОУ \"СОШ№7\""},{"$f":"[1]Лист1!D26","v":"Фазлыева"},{"$f":"[1]Лист1!E26","v":"Амира"},{"$f":"[1]Лист1!H26","v":5},null,null,{"$f":"[1]Лист1!I26","v":5},null,null,48,"участник"]
[{"$f":"[1]Лист1!B27","v":24},"Альметьевский",{"$f":"[1]Лист1!C27","v":"МАОУ \"СОШ№7\""},{"$f":"[1]Лист1!D27","v":"Инюшева"},{"$f":"[1]Лист1!E27","v":"Дарья"},{"$f":"[1]Лист1!H27","v":5},null,null,{"$f":"[1]Лист1!I27","v":4.5},null,null,48,"участник"]
[{"$f":"[1]Лист1!B28","v":25},"Альметьевский",{"$f":"[1]Лист1!C28","v":"МБОУ «СОШ№24»"},{"$f":"[1]Лист1!D28","v":"Кашапова "},{"$f":"[1]Лист1!E28","v":"Лейла"},{"$f":"[1]Лист1!H28","v":5},null,null,{"$f":"[1]Лист1!I28","v":3},null,null,48,"участник"]
[{"$f":"[1]Лист1!B29","v":26},"Альметьевский",{"$f":"[1]Лист1!C29","v":"МБОУ «Нижнемактаминская СОШ №1»"},{"$f":"[1]Лист1!D29","v":"Гарипова"},{"$f":"[1]Лист1!E29","v":"Ясмина"},{"$f":"[1]Лист1!H29","v":5},null,null,{"$f":"[1]Лист1!I29","v":1},null,null,48,"участник"]
[{"$f":"[1]Лист1!B30","v":27},"Альметьевский",{"$f":"[1]Лист1!C30","v":"МБОУ «Гимназия №1 им.Р.Фахретдина»"},{"$f":"[1]Лист1!D30","v":"Рахимова "},{"$f":"[1]Лист1!E30","v":"Камила"},{"$f":"[1]Лист1!H30","v":5},null,null,{"$f":"[1]Лист1!I30","v":0},null,null,48,"участник"]
[{"$f":"[1]Лист1!B31","v":28},"Альметьевский",{"$f":"[1]Лист1!C31","v":"МБОУ «Нижнемактаминская СОШ №2»"},{"$f":"[1]Лист1!D31","v":"Пермякова"},{"$f":"[1]Лист1!E31","v":"Софья"},{"$f":"[1]Лист1!H31","v":5},null,null,{"$f":"[1]Лист1!I31","v":0},null,null,48,"участник"]
[{"$f":"[1]Лист1!B32","v":29},"Альметьевский",{"$f":"[1]Лист1!C32","v":"МБОУ«СОШ №1 им. М.К.Тагирова» "},{"$f":"[1]Лист1!D32","v":"Абдулова"},{"$f":"[1]Лист1!E32","v":"Самира"},{"$f":"[1]Лист1!H32","v":6},null,null,{"$f":"[1]Лист1!I32","v":31},null,null,48,{"$f":"$M$4","v":"призер"}]
[{"$f":"[1]Лист1!B33","v":30},"Альметьевский",{"$f":"[1]Лист1!C33","v":"МБОУ \"СОШ №25 имени 70-летия нефти Татарстана\""},{"$f":"[1]Лист1!D33","v":"Хакимов"},{"$f":"[1]Лист1!E33","v":"Риналь"},{"$f":"[1]Лист1!H33","v":6},null,null,{"$f":"[1]Лист1!I33","v":29.5},null,null,48,{"$f":"[1]Лист1!J33","v":"призер"}]
[{"$f":"[1]Лист1!B34","v":31},"Альметьевский",{"$f":"[1]Лист1!C34","v":"МБОУ «Гимназия №1 им.Р.Фахретдина»"},{"$f":"[1]Лист1!D34","v":"Мисбахова"},{"$f":"[1]Лист1!E34","v":"Марьям"},{"$f":"[1]Лист1!H34","v":6},null,null,{"$f":"[1]Лист1!I34","v":29.5},null,null,48,{"$f":"[1]Лист1!J34","v":"призер"}]
[{"$f":"[1]Лист1!B35","v":32},"Альметьевский",{"$f":"[1]Лист1!C35","v":"МАОУ «Гимназия №5»"},{"$f":"[1]Лист1!D35","v":"Камалова"},{"$f":"[1]Лист1!E35","v":"Милана"},{"$f":"[1]Лист1!H35","v":6},null,null,{"$f":"[1]Лист1!I35","v":27},null,null,48,{"$f":"[1]Лист1!J35","v":"призер"}]
[{"$f":"[1]Лист1!B36","v":33},"Альметьевский",{"$f":"[1]Лист1!C36","v":"МБОУ \"СОШ №25 имени 70-летия нефти Татарстана\""},{"$f":"[1]Лист1!D36","v":"Тютюгина"},{"$f":"[1]Лист1!E36","v":"Агата"},{"$f":"[1]Лист1!H36","v":6},null,null,{"$f":"[1]Лист1!I36","v":27},null,null,48,{"$f":"[1]Лист1!J36","v":"призер"}]
[{"$f":"[1]Лист1!B37","v":34},{"$f":"$B$3","v":"Альметьевский"},{"$f":"[1]Лист1!C37","v":"МАОУ – лицей №2"},{"$f":"[1]Лист1!D37","v":"Мударисов"},{"$f":"[1]Лист1!E37","v":"Радмир"},{"$f":"[1]Лист1!H37","v":6},null,null,{"$f":"[1]Лист1!I37","v":26},null,null,{"$f":"$L$3","v":48},{"$f":"[1]Лист1!J37","v":"призер"}]
[{"$f":"[1]Лист1!B38","v":35},"Альметьевский",{"$f":"[1]Лист1!C38","v":"МАОУ – лицей №2"},{"$f":"[1]Лист1!D38","v":"Асреева "},{"$f":"[1]Лист1!E38","v":"Алиша"},{"$f":"[1]Лист1!H38","v":6},null,null,{"$f":"[1]Лист1!I38","v":25},null,null,48,{"$f":"[1]Лист1!J38","v":"призер"}]
[{"$f":"[1]Лист1!B39","v":36},"Альметьевский",{"$f":"[1]Лист1!C39","v":"МБОУ «СОШ №20»"},{"$f":"[1]Лист1!D39","v":"Кузнецова"},{"$f":"[1]Лист1!E39","v":"Полина"},{"$f":"[1]Лист1!H39","v":6},null,null,{"$f":"[1]Лист1!I39","v":24.5},null,null,48,{"$f":"[1]Лист1!J39","v":"призер"}]
[{"$f":"[1]Лист1!B40","v":37},"Альметьевский",{"$f":"[1]Лист1!C40","v":"МБОУ«СОШ №1 им. М.К.Тагирова» "},{"$f":"[1]Лист1!D40","v":"Ягудина"},{"$f":"[1]Лист1!E40","v":"Зарина"},{"$f":"[1]Лист1!H40","v":6},null,null,{"$f":"[1]Лист1!I40","v":23},null,null,48,{"$f":"$M$5","v":"участник"}]
[{"$f":"[1]Лист1!B41","v":38},"Альметьевский",{"$f":"[1]Лист1!C41","v":"ЧОУ СШ №23 \"Менеджер\""},{"$f":"[1]Лист1!D41","v":"Серопян"},{"$f":"[1]Лист1!E41","v":"Максим"},{"$f":"[1]Лист1!H41","v":6},null,null,{"$f":"[1]Лист1!I41","v":21.5},null,null,48,"участник"]
[{"$f":"[1]Лист1!B42","v":39},"Альметьевский",{"$f":"[1]Лист1!C42","v":"МАОУ «СОШ №10 с углубленным изучением отдельных предметов»"},{"$f":"[1]Лист1!D42","v":"Авзалова"},{"$f":"[1]Лист1!E42","v":"Алина"},{"$f":"[1]Лист1!H42","v":6},null,null,{"$f":"[1]Лист1!I42","v":21},null,null,48,"участник"]
[{"$f":"[1]Лист1!B43","v":40},"Альметьевский",{"$f":"[1]Лист1!C43","v":"МБОУ \"СОШ №4\""},{"$f":"[1]Лист1!D43","v":"Алиева "},{"$f":"[1]Лист1!E43","v":" Камилла "},{"$f":"[1]Лист1!H43","v":6},null,null,{"$f":"[1]Лист1!I43","v":20.5},null,null,48,"участник"]
[{"$f":"[1]Лист1!B44","v":41},"Альметьевский",{"$f":"[1]Лист1!C44","v":"МБОУ \"СОШ №25 имени 70-летия нефти Татарстана\""},{"$f":"[1]Лист1!D44","v":"Мухамедов"},{"$f":"[1]Лист1!E44","v":"Тимур"},{"$f":"[1]Лист1!H44","v":6},null,null,{"$f":"[1]Лист1!I44","v":19.5},null,null,48,"участник"]
[{"$f":"[1]Лист1!B45","v":42},"Альметьевский",{"$f":"[1]Лист1!C45","v":"МБОУ«СОШ №1 им. М.К.Тагирова» "},{"$f":"[1]Лист1!D45","v":"Сагидуллина"},{"$f":"[1]Лист1!E45","v":"Элина"},{"$f":"[1]Лист1!H45","v":6},null,null,{"$f":"[1]Лист1!I45","v":18.5},null,null,48,"участник"]
[{"$f":"[1]Лист1!B46","v":43},"Альметьевский",{"$f":"[1]Лист1!C46","v":"МБОУ «СОШ№6»"},{"$f":"[1]Лист1!D46","v":"Фаттахова"},{"$f":"[1]Лист1!E46","v":"Рания"},{"$f":"[1]Лист1!H46","v":6},null,null,{"$f":"[1]Лист1!I46","v":18.5},null,null,48,"участник"]
[{"$f":"[1]Лист1!B47","v":44},"Альметьевский",{"$f":"[1]Лист1!C47","v":"МБОУ «СОШ№12»"},{"$f":"[1]Лист1!D47","v":"Асылова"},{"$f":"[1]Лист1!E47","v":"Назиля"},{"$f":"[1]Лист1!H47","v":6},null,null,{"$f":"[1]Лист1!I47","v":17},null,null,48,"участник"]
[{"$f":"[1]Лист1!B48","v":45},"Альметьевский",{"$f":"[1]Лист1!C48","v":"МАОУ – лицей №2"},{"$f":"[1]Лист1!D48","v":"Прокопьева"},{"$f":"[1]Лист1!E48","v":"Александра"},{"$f":"[1]Лист1!H48","v":6},null,null,{"$f":"[1]Лист1!I48","v":16},null,null,48,"участник"]
[{"$f":"[1]Лист1!B49","v":46},"Альметьевский",{"$f":"[1]Лист1!C49","v":"МАОУ \"СОШ№7\""},{"$f":"[1]Лист1!D49","v":"Семенов"},{"$f":"[1]Лист1!E49","v":"Алексей"},{"$f":"[1]Лист1!H49","v":6},null,null,{"$f":"[1]Лист1!I49","v":15.5},null,null,48,"участник"]
[{"$f":"[1]Лист1!B50","v":47},"Альметьевский",{"$f":"[1]Лист1!C50","v":"МБОУ \"СОШ № 15\""},{"$f":"[1]Лист1!D50","v":"Александрова "},{"$f":"[1]Лист1!E50","v":"Олеся"},{"$f":"[1]Лист1!H50","v":6},null,null,{"$f":"[1]Лист1!I50","v":15},null,null,48,"участник"]
[{"$f":"[1]Лист1!B51","v":48},"Альметьевский",{"$f":"[1]Лист1!C51","v":"МБОУ \"СОШ №25 имени 70-летия нефти Татарстана\""},{"$f":"[1]Лист1!D51","v":"Миннеханова"},{"$f":"[1]Лист1!E51","v":"Аделя"},{"$f":"[1]Лист1!H51","v":6},null,null,{"$f":"[1]Лист1!I51","v":15},null,null,48,"участник"]
[{"$f":"[1]Лист1!B52","v":49},"Альметьевский",{"$f":"[1]Лист1!C52","v":"МБОУ \"СОШ №25 имени 70-летия нефти Татарстана\""},{"$f":"[1]Лист1!D52","v":"Гайнутдинов"},{"$f":"[1]Лист1!E52","v":"Ренальд"},{"$f":"[1]Лист1!H52","v":6},null,null,{"$f":"[1]Лист1!I52","v":14.5},null,null,48,"участник"]
[{"$f":"[1]Лист1!B53","v":50},"Альметьевский",{"$f":"[1]Лист1!C53","v":"МАОУ \"СОШ№7\""},{"$f":"[1]Лист1!D53","v":"Сагатова"},{"$f":"[1]Лист1!E53","v":"Аделина"},{"$f":"[1]Лист1!H53","v":6},null,null,{"$f":"[1]Лист1!I53","v":14},null,null,48,"участник"]
[{"$f":"[1]Лист1!B54","v":51},"Альметьевский",{"$f":"[1]Лист1!C54","v":"МБОУ «СОШ№13»"},{"$f":"[1]Лист1!D54","v":"Гибадуллина"},{"$f":"[1]Лист1!E54","v":"Карина"},{"$f":"[1]Лист1!H54","v":6},null,null,{"$f":"[1]Лист1!I54","v":13},null,null,48,"участник"]
[{"$f":"[1]Лист1!B55","v":52},"Альметьевский",{"$f":"[1]Лист1!C55","v":"МБОУ «Вернемактаминская МОШ»"},{"$f":"[1]Лист1!D55","v":"Миназев"},{"$f":"[1]Лист1!E55","v":"Камиль"},{"$f":"[1]Лист1!H55","v":6},null,null,{"$f":"[1]Лист1!I55","v":13},null,null,48,"участник"]
[{"$f":"[1]Лист1!B56","v":53},"Альметьевский",{"$f":"[1]Лист1!C56","v":"МАОУ «СОШ №10 с углубленным изучением отдельных предметов»"},{"$f":"[1]Лист1!D56","v":"Ботдалова"},{"$f":"[1]Лист1!E56","v":"Алия"},{"$f":"[1]Лист1!H56","v":6},null,null,{"$f":"[1]Лист1!I56","v":12},null,null,48,"участник"]
[{"$f":"[1]Лист1!B57","v":54},"Альметьевский",{"$f":"[1]Лист1!C57","v":"МБОО \"СОШ №24\""},{"$f":"[1]Лист1!D57","v":"Давлетшина"},{"$f":"[1]Лист1!E57","v":"Алина"},{"$f":"[1]Лист1!H57","v":6},null,null,{"$f":"[1]Лист1!I57","v":10.5},null,null,48,"участник"]
[{"$f":"[1]Лист1!B58","v":55},"Альметьевский",{"$f":"[1]Лист1!C58","v":"МБОО \"СОШ №24\""},{"$f":"[1]Лист1!D58","v":"Давыдова "},{"$f":"[1]Лист1!E58","v":"Ева"},{"$f":"[1]Лист1!H58","v":6},null,null,{"$f":"[1]Лист1!I58","v":9.5},null,null,48,"участник"]
[{"$f":"[1]Лист1!B59","v":56},"Альметьевский",{"$f":"[1]Лист1!C59","v":"МБОУ \"Нижнемактаминская СОШ №1\""},{"$f":"[1]Лист1!D59","v":"Шарибзянова"},{"$f":"[1]Лист1!E59","v":"Аделия"},{"$f":"[1]Лист1!H59","v":6},null,null,{"$f":"[1]Лист1!I59","v":9},null,null,48,"участник"]
[{"$f":"[1]Лист1!B60","v":57},"Альметьевский",{"$f":"[1]Лист1!C60","v":"МБОУ \"СОШ №4\""},{"$f":"[1]Лист1!D60","v":"Хайретдинова"},{"$f":"[1]Лист1!E60","v":"Аделя"},{"$f":"[1]Лист1!H60","v":6},null,null,{"$f":"[1]Лист1!I60","v":9},null,null,48,"участник"]
[{"$f":"[1]Лист1!B61","v":58},"Альметьевский",{"$f":"[1]Лист1!C61","v":"МБОУ\"Нижнемактаминская СОШ№2\""},{"$f":"[1]Лист1!D61","v":"Арифуллина"},{"$f":"[1]Лист1!E61","v":"Миллана"},{"$f":"[1]Лист1!H61","v":6},null,null,{"$f":"[1]Лист1!I61","v":8},null,null,48,"участник"]
[{"$f":"[1]Лист1!B62","v":59},"Альметьевский",{"$f":"[1]Лист1!C62","v":"МАОУ «СОШ№17»"},{"$f":"[1]Лист1!D62","v":"Назукина"},{"$f":"[1]Лист1!E62","v":"Алина"},{"$f":"[1]Лист1!H62","v":6},null,null,{"$f":"[1]Лист1!I62","v":7},null,null,48,"участник"]
[{"$f":"[1]Лист1!B63","v":60},"Альметьевский",{"$f":"[1]Лист1!C63","v":"МБОУ\"Нижнемактаминская СОШ№2\""},{"$f":"[1]Лист1!D63","v":"Пыхарев"},{"$f":"[1]Лист1!E63","v":"Илья"},{"$f":"[1]Лист1!H63","v":6},null,null,{"$f":"[1]Лист1!I63","v":6},null,null,48,"участник"]
[{"$f":"[1]Лист1!B64","v":61},"Альметьевский",{"$f":"[1]Лист1!C64","v":"МБОУ\"Нижнемактаминская СОШ№2\""},{"$f":"[1]Лист1!D64","v":"Садриева"},{"$f":"[1]Лист1!E64","v":"Азалия"},{"$f":"[1]Лист1!H64","v":6},null,null,{"$f":"[1]Лист1!I64","v":6},null,null,48,"участник"]
[{"$f":"[1]Лист1!B65","v":62},"Альметьевский",{"$f":"[1]Лист1!C65","v":"МАОУ \"СОШ№7\""},{"$f":"[1]Лист1!D65","v":"Шаронова"},{"$f":"[1]Лист1!E65","v":"Анастасия"},{"$f":"[1]Лист1!H65","v":6},null,null,{"$f":"[1]Лист1!I65","v":5},null,null,48,"участник"]
[{"$f":"[1]Лист1!B66","v":63},"Альметьевский",{"$f":"[1]Лист1!C66","v":"МБОУ «СОШ№6»"},{"$f":"[1]Лист1!D66","v":"Аргодяева"},{"$f":"[1]Лист1!E66","v":"Арина"},{"$f":"[1]Лист1!H66","v":6},null,null,{"$f":"[1]Лист1!I66","v":5},null,null,48,"участник"]
[{"$f":"[1]Лист1!B67","v":64},"Альметьевский",{"$f":"[1]Лист1!C67","v":"МАОУ – лицей №2"},{"$f":"[1]Лист1!D67","v":"Закирова"},{"$f":"[1]Лист1!E67","v":"Фарида"},{"$f":"[1]Лист1!H67","v":7},null,null,{"$f":"[1]Лист1!I67","v":39.5},null,null,56,{"$f":"$M$67","v":"призер"}]
[{"$f":"[1]Лист1!B68","v":65},"Альметьевский",{"$f":"[1]Лист1!C68","v":"МАОУ – лицей №2"},{"$f":"[1]Лист1!D68","v":"Котина"},{"$f":"[1]Лист1!E68","v":"Елизавета"},{"$f":"[1]Лист1!H68","v":7},null,null,{"$f":"[1]Лист1!I68","v":39.5},null,null,{"$f":"$L$66","v":56},{"$f":"[1]Лист1!J68","v":"призер"}]
[{"$f":"[1]Лист1!B69","v":66},{"$f":"$B$3","v":"Альметьевский"},{"$f":"[1]Лист1!C69","v":"МБОУ «СОШ№20»"},{"$f":"[1]Лист1!D69","v":"Тихонова"},{"$f":"[1]Лист1!E69","v":"Елизавета"},{"$f":"[1]Лист1!H69","v":7},null,null,{"$f":"[1]Лист1!I69","v":35.5},null,null,56,{"$f":"[1]Лист1!J69","v":"призер"}]
[{"$f":"[1]Лист1!B70","v":67},"Альметьевский",{"$f":"[1]Лист1!C70","v":"МБОУ \"СОШ №4\""},{"$f":"[1]Лист1!D70","v":"Ахметова"},{"$f":"[1]Лист1!E70","v":"Алия"},{"$f":"[1]Лист1!H70","v":7},null,null,{"$f":"[1]Лист1!I70","v":31.5},null,null,56,{"$f":"[1]Лист1!J70","v":"призер"}]
[{"$f":"[1]Лист1!B71","v":68},"Альметьевский",{"$f":"[1]Лист1!C71","v":"МБОУ «СОШ№20»"},{"$f":"[1]Лист1!D71","v":"Кашаприна"},{"$f":"[1]Лист1!E71","v":"Елизавета"},{"$f":"[1]Лист1!H71","v":7},null,null,{"$f":"[1]Лист1!I71","v":29},null,null,56,{"$f":"[1]Лист1!J71","v":"призер"}]
[{"$f":"[1]Лист1!B72","v":69},"Альметьевский",{"$f":"[1]Лист1!C72","v":"МАОУ «СОШ №10 с углубленным изучением отдельных предметов»"},{"$f":"[1]Лист1!D72","v":"Галиева"},{"$f":"[1]Лист1!E72","v":"Алина"},{"$f":"[1]Лист1!H72","v":7},null,null,{"$f":"[1]Лист1!I72","v":26},null,null,56,{"$f":"$M$5","v":"участник"}]
[{"$f":"[1]Лист1!B73","v":70},"Альметьевский",{"$f":"[1]Лист1!C73","v":"МАОУ \"СОШ№7\""},{"$f":"[1]Лист1!D73","v":"Подовалова"},{"$f":"[1]Лист1!E73","v":"Софья"},{"$f":"[1]Лист1!H73","v":7},null,null,{"$f":"[1]Лист1!I73","v":26},null,null,56,"участник"]
[{"$f":"[1]Лист1!B74","v":71},"Альметьевский",{"$f":"[1]Лист1!C74","v":"МАОУ «СОШ №10 с углубленным изучением отдельных предметов»"},{"$f":"[1]Лист1!D74","v":"Прохорова "},{"$f":"[1]Лист1!E74","v":"София"},{"$f":"[1]Лист1!H74","v":7},null,null,{"$f":"[1]Лист1!I74","v":25.5},null,null,56,"участник"]
[{"$f":"[1]Лист1!B75","v":72},"Альметьевский",{"$f":"[1]Лист1!C75","v":"МБОУ \"СОШ №4\""},{"$f":"[1]Лист1!D75","v":"Хуббулина"},{"$f":"[1]Лист1!E75","v":"Алсу"},{"$f":"[1]Лист1!H75","v":7},null,null,{"$f":"[1]Лист1!I75","v":23.5},null,null,56,"участник"]
[{"$f":"[1]Лист1!B76","v":73},"Альметьевский",{"$f":"[1]Лист1!C76","v":"МБОО \"СОШ №25 имени 70-летия нефти "},{"$f":"[1]Лист1!D76","v":"Хафизов"},{"$f":"[1]Лист1!E76","v":"Данияр"},{"$f":"[1]Лист1!H76","v":7},null,null,{"$f":"[1]Лист1!I76","v":23},null,null,56,"участник"]
[{"$f":"[1]Лист1!B77","v":74},"Альметьевский",{"$f":"[1]Лист1!C77","v":"МАОУ «СОШ№16»"},{"$f":"[1]Лист1!D77","v":"Вольнова"},{"$f":"[1]Лист1!E77","v":"Дарина"},{"$f":"[1]Лист1!H77","v":7},null,null,{"$f":"[1]Лист1!I77","v":22.5},null,null,56,"участник"]
[{"$f":"[1]Лист1!B78","v":75},"Альметьевский",{"$f":"[1]Лист1!C78","v":"МБОУ «СОШ №11»"},{"$f":"[1]Лист1!D78","v":"Петрушкова"},{"$f":"[1]Лист1!E78","v":"Виктория"},{"$f":"[1]Лист1!H78","v":7},null,null,{"$f":"[1]Лист1!I78","v":22.5},null,null,56,"участник"]
[{"$f":"[1]Лист1!B79","v":76},"Альметьевский",{"$f":"[1]Лист1!C79","v":"МБОУ \"СОШ №3\""},{"$f":"[1]Лист1!D79","v":"Тютюгина"},{"$f":"[1]Лист1!E79","v":"Ангелина"},{"$f":"[1]Лист1!H79","v":7},null,null,{"$f":"[1]Лист1!I79","v":22.5},null,null,56,"участник"]
[{"$f":"[1]Лист1!B80","v":77},"Альметьевский",{"$f":"[1]Лист1!C80","v":"МАОУ «СОШ№16»"},{"$f":"[1]Лист1!D80","v":"Смоленкова"},{"$f":"[1]Лист1!E80","v":" Регина "},{"$f":"[1]Лист1!H80","v":7},null,null,{"$f":"[1]Лист1!I80","v":21},null,null,56,"участник"]
[{"$f":"[1]Лист1!B81","v":78},"Альметьевский",{"$f":"[1]Лист1!C81","v":"МАОУ «СОШ№16»"},{"$f":"[1]Лист1!D81","v":"Бахтиярова"},{"$f":"[1]Лист1!E81","v":"Дания"},{"$f":"[1]Лист1!H81","v":7},null,null,{"$f":"[1]Лист1!I81","v":19.5},null,null,56,"участник"]
[{"$f":"[1]Лист1!B82","v":79},"Альметьевский",{"$f":"[1]Лист1!C82","v":"МБОУ «СОШ №17»"},{"$f":"[1]Лист1!D82","v":"Дмитриенко"},{"$f":"[1]Лист1!E82","v":"Кирилл"},{"$f":"[1]Лист1!H82","v":7},null,null,{"$f":"[1]Лист1!I82","v":19},null,null,56,"участник"]
[{"$f":"[1]Лист1!B83","v":80},"Альметьевский",{"$f":"[1]Лист1!C83","v":"МБОУ «СОШ№13»"},{"$f":"[1]Лист1!D83","v":"Волков"},{"$f":"[1]Лист1!E83","v":"Родион"},{"$f":"[1]Лист1!H83","v":7},null,null,{"$f":"[1]Лист1!I83","v":18.5},null,null,56,"участник"]
[{"$f":"[1]Лист1!B84","v":81},"Альметьевский",{"$f":"[1]Лист1!C84","v":"МБОУ\"Нижнемактаминская СОШ№2\""},{"$f":"[1]Лист1!D84","v":"Каримова"},{"$f":"[1]Лист1!E84","v":"Сабина"},{"$f":"[1]Лист1!H84","v":7},null,null,{"$f":"[1]Лист1!I84","v":18},null,null,56,"участник"]
[{"$f":"[1]Лист1!B85","v":82},"Альметьевский",{"$f":"[1]Лист1!C85","v":"МАОУ «СОШ№17»"},{"$f":"[1]Лист1!D85","v":"Дмитриев"},{"$f":"[1]Лист1!E85","v":"Илья"},{"$f":"[1]Лист1!H85","v":7},null,null,{"$f":"[1]Лист1!I85","v":18},null,null,56,"участник"]
[{"$f":"[1]Лист1!B86","v":83},"Альметьевский",{"$f":"[1]Лист1!C86","v":"МБОУ \"СОШ №4\""},{"$f":"[1]Лист1!D86","v":"Костусенко"},{"$f":"[1]Лист1!E86","v":"Полина"},{"$f":"[1]Лист1!H86","v":7},null,null,{"$f":"[1]Лист1!I86","v":17.5},null,null,56,"участник"]
[{"$f":"[1]Лист1!B87","v":84},"Альметьевский",{"$f":"[1]Лист1!C87","v":"МБОУ \"Лесно-Калейкинская СОШ\""},{"$f":"[1]Лист1!D87","v":"Иванов"},{"$f":"[1]Лист1!E87","v":"Владислав"},{"$f":"[1]Лист1!H87","v":7},null,null,{"$f":"[1]Лист1!I87","v":17},null,null,56,"участник"]
[{"$f":"[1]Лист1!B88","v":85},"Альметьевский",{"$f":"[1]Лист1!C88","v":"МБОУ \"СОШ №4\""},{"$f":"[1]Лист1!D88","v":"Белова"},{"$f":"[1]Лист1!E88","v":"Камила"},{"$f":"[1]Лист1!H88","v":7},null,null,{"$f":"[1]Лист1!I88","v":16.5},null,null,56,"участник"]
[{"$f":"[1]Лист1!B89","v":86},"Альметьевский",{"$f":"[1]Лист1!C89","v":"МБОУ «СОШ №11»"},{"$f":"[1]Лист1!D89","v":"Кайгородов"},{"$f":"[1]Лист1!E89","v":"Кирилл"},{"$f":"[1]Лист1!H89","v":7},null,null,{"$f":"[1]Лист1!I89","v":15},null,null,56,"участник"]
[{"$f":"[1]Лист1!B90","v":87},"Альметьевский",{"$f":"[1]Лист1!C90","v":"МБОУ \"Кичуйская СОШ\""},{"$f":"[1]Лист1!D90","v":"Хафизова"},{"$f":"[1]Лист1!E90","v":"Мадина"},{"$f":"[1]Лист1!H90","v":7},null,null,{"$f":"[1]Лист1!I90","v":14.5},null,null,56,"участник"]
[{"$f":"[1]Лист1!B91","v":88},"Альметьевский",{"$f":"[1]Лист1!C91","v":"МБОУ \"СОШ №4\""},{"$f":"[1]Лист1!D91","v":"Латыпова"},{"$f":"[1]Лист1!E91","v":"Алия"},{"$f":"[1]Лист1!H91","v":7},null,null,{"$f":"[1]Лист1!I91","v":13.5},null,null,56,"участник"]
[{"$f":"[1]Лист1!B92","v":89},"Альметьевский",{"$f":"[1]Лист1!C92","v":"МБОУ \"Кичуйская СОШ\""},{"$f":"[1]Лист1!D92","v":"Нуретдинова"},{"$f":"[1]Лист1!E92","v":"Ландыш"},{"$f":"[1]Лист1!H92","v":7},null,null,{"$f":"[1]Лист1!I92","v":13.5},null,null,56,"участник"]
[{"$f":"[1]Лист1!B93","v":90},"Альметьевский",{"$f":"[1]Лист1!C93","v":"МБОУ «СОШ №24»"},{"$f":"[1]Лист1!D93","v":"Гетманский "},{"$f":"[1]Лист1!E93","v":"Дмитрий"},{"$f":"[1]Лист1!H93","v":7},null,null,{"$f":"[1]Лист1!I93","v":13},null,null,56,"участник"]
[{"$f":"[1]Лист1!B94","v":91},"Альметьевский",{"$f":"[1]Лист1!C94","v":"МБОУ\"Нижнемактаминская СОШ№2\""},{"$f":"[1]Лист1!D94","v":"Айткулова"},{"$f":"[1]Лист1!E94","v":"Нигора"},{"$f":"[1]Лист1!H94","v":7},null,null,{"$f":"[1]Лист1!I94","v":12},null,null,56,"участник"]
[{"$f":"[1]Лист1!B95","v":92},"Альметьевский",{"$f":"[1]Лист1!C95","v":"МБОУ\"Нижнемактаминская СОШ№2\""},{"$f":"[1]Лист1!D95","v":"Халиков"},{"$f":"[1]Лист1!E95","v":"Бакир"},{"$f":"[1]Лист1!H95","v":7},null,null,{"$f":"[1]Лист1!I95","v":9},null,null,56,"участник"]
[{"$f":"[1]Лист1!B96","v":93},"Альметьевский",{"$f":"[1]Лист1!C96","v":"МБОУ \"СОШ №4\""},{"$f":"[1]Лист1!D96","v":"Хамраева"},{"$f":"[1]Лист1!E96","v":"Фарида"},{"$f":"[1]Лист1!H96","v":7},null,null,{"$f":"[1]Лист1!I96","v":8},null,null,56,"участник"]
[{"$f":"[1]Лист1!B97","v":94},"Альметьевский",{"$f":"[1]Лист1!C97","v":"МАОУ – лицей №2"},{"$f":"[1]Лист1!D97","v":"Мазитова"},{"$f":"[1]Лист1!E97","v":"Эвелина"},{"$f":"[1]Лист1!H97","v":8},null,null,{"$f":"[1]Лист1!I97","v":45.5},{"$f":"[2]тестовый!K210","v":1},{"$f":"[2]тестовый!L210","v":46.5},56,{"$f":"[1]Лист1!J101","v":"победитель"}]
[{"$f":"[1]Лист1!B98","v":95},"Альметьевский",{"$f":"[1]Лист1!C98","v":"ЧОУ СШ №23 \"Менеджер\""},{"$f":"[1]Лист1!D98","v":"Иктисанов"},{"$f":"[1]Лист1!E98","v":"Богдан"},{"$f":"[1]Лист1!H98","v":8},null,null,{"$f":"[1]Лист1!I98","v":42.5},null,null,56,{"$f":"$M$96","v":"победитель"}]
[{"$f":"[1]Лист1!B99","v":96},"Альметьевский",{"$f":"[1]Лист1!C99","v":"МАОУ \"СОШ№7\""},{"$f":"[1]Лист1!D99","v":"Аминова"},{"$f":"[1]Лист1!E99","v":"Аделина"},{"$f":"[1]Лист1!H99","v":8},null,null,{"$f":"[1]Лист1!I99","v":42},null,null,56,{"$f":"$M$97","v":"победитель"}]
[{"$f":"[1]Лист1!B100","v":97},"Альметьевский",{"$f":"[1]Лист1!C100","v":"ЧОУ СШ №23 \"Менеджер\""},{"$f":"[1]Лист1!D100","v":"Шакиров"},{"$f":"[1]Лист1!E100","v":"Карим"},{"$f":"[1]Лист1!H100","v":8},null,null,{"$f":"[1]Лист1!I100","v":40},null,null,{"$f":"$L$66","v":56},{"$f":"$M$101","v":"призер"}]
[{"$f":"[1]Лист1!B101","v":98},{"$f":"$B$3","v":"Альметьевский"},{"$f":"[1]Лист1!C101","v":"МАОУ «СОШ №10 с углубленным изучением отдельных предметов»"},{"$f":"[1]Лист1!D101","v":"Вершинина "},{"$f":"[1]Лист1!E101","v":"Анастасия"},{"$f":"[1]Лист1!H101","v":8},null,null,{"$f":"[1]Лист1!I101","v":33.5},null,null,56,"призер"]
[{"$f":"[1]Лист1!B102","v":99},"Альметьевский",{"$f":"[1]Лист1!C102","v":"МБОУ \"СОШ №3\""},{"$f":"[1]Лист1!D102","v":"Мальцева"},{"$f":"[1]Лист1!E102","v":"Ника"},{"$f":"[1]Лист1!H102","v":8},null,null,{"$f":"[1]Лист1!I102","v":31},null,null,56,{"$f":"[1]Лист1!J102","v":"призер"}]
[{"$f":"[1]Лист1!B103","v":100},"Альметьевский",{"$f":"[1]Лист1!C103","v":"МАОУ Гимназия №5"},{"$f":"[1]Лист1!D103","v":"Мотыгуллина"},{"$f":"[1]Лист1!E103","v":"Амина"},{"$f":"[1]Лист1!H103","v":8},null,null,{"$f":"[1]Лист1!I103","v":28.5},null,null,56,{"$f":"[1]Лист1!J103","v":"призер"}]
[{"$f":"[1]Лист1!B104","v":101},"Альметьевский",{"$f":"[1]Лист1!C104","v":"МАОУ «СОШ№16»"},{"$f":"[1]Лист1!D104","v":"Мухамадиева "},{"$f":"[1]Лист1!E104","v":"Наиля"},{"$f":"[1]Лист1!H104","v":8},null,null,{"$f":"[1]Лист1!I104","v":"28, 5"},null,null,56,{"$f":"[1]Лист1!J104","v":"призер"}]
[{"$f":"[1]Лист1!B105","v":102},"Альметьевский",{"$f":"[1]Лист1!C105","v":"МБОУ \"СОШ №4\""},{"$f":"[1]Лист1!D105","v":"Сагидуллина"},{"$f":"[1]Лист1!E105","v":"Лиана"},{"$f":"[1]Лист1!H105","v":8},null,null,{"$f":"[1]Лист1!I105","v":28},null,null,56,{"$f":"[1]Лист1!J105","v":"призер"}]
[{"$f":"[1]Лист1!B106","v":103},"Альметьевский",{"$f":"[1]Лист1!C106","v":"МАОУ «СОШ №10 с углубленным изучением отдельных предметов»"},{"$f":"[1]Лист1!D106","v":"Горланов "},{"$f":"[1]Лист1!E106","v":"Георгий"},{"$f":"[1]Лист1!H106","v":8},null,null,{"$f":"[1]Лист1!I106","v":28},null,null,56,{"$f":"[1]Лист1!J106","v":"призер"}]
[{"$f":"[1]Лист1!B107","v":104},"Альметьевский",{"$f":"[1]Лист1!C107","v":"МБОУ «СОШ№11»"},{"$f":"[1]Лист1!D107","v":"Низамутдинова"},{"$f":"[1]Лист1!E107","v":"Айгуль"},{"$f":"[1]Лист1!H107","v":8},null,null,{"$f":"[1]Лист1!I107","v":28},null,null,56,{"$f":"[1]Лист1!J107","v":"призер"}]
[{"$f":"[1]Лист1!B108","v":105},"Альметьевский",{"$f":"[1]Лист1!C108","v":"МБОУ «СОШ №6»"},{"$f":"[1]Лист1!D108","v":"Валиев"},{"$f":"[1]Лист1!E108","v":"Камиль"},{"$f":"[1]Лист1!H108","v":8},null,null,{"$f":"[1]Лист1!I108","v":27},null,null,56,{"$f":"$M$5","v":"участник"}]
[{"$f":"[1]Лист1!B109","v":106},"Альметьевский",{"$f":"[1]Лист1!C109","v":"МБОУ\" Нижнемактаминская СОШ№2\""},{"$f":"[1]Лист1!D109","v":"Ломакина"},{"$f":"[1]Лист1!E109","v":"Екатерина"},{"$f":"[1]Лист1!H109","v":8},null,null,{"$f":"[1]Лист1!I109","v":24.5},null,null,56,"участник"]
[{"$f":"[1]Лист1!B110","v":107},"Альметьевский",{"$f":"[1]Лист1!C110","v":"МБОУ «СОШ №24»"},{"$f":"[1]Лист1!D110","v":"Сибгатуллина"},{"$f":"[1]Лист1!E110","v":"Виктория "},{"$f":"[1]Лист1!H110","v":8},null,null,{"$f":"[1]Лист1!I110","v":22},null,null,56,"участник"]
[{"$f":"[1]Лист1!B111","v":108},"Альметьевский",{"$f":"[1]Лист1!C111","v":"МБОУ \" Нижнемактаминская СОШ№2\""},{"$f":"[1]Лист1!D111","v":"Ганиев"},{"$f":"[1]Лист1!E111","v":"Риназ"},{"$f":"[1]Лист1!H111","v":8},null,null,{"$f":"[1]Лист1!I111","v":21.5},null,null,56,"участник"]
[{"$f":"[1]Лист1!B112","v":109},"Альметьевский",{"$f":"[1]Лист1!C112","v":"МБОУ «СОШ №13»"},{"$f":"[1]Лист1!D112","v":"Рахматшоев"},{"$f":"[1]Лист1!E112","v":"Тимур"},{"$f":"[1]Лист1!H112","v":8},null,null,{"$f":"[1]Лист1!I112","v":20.5},null,null,56,"участник"]
[{"$f":"[1]Лист1!B113","v":110},"Альметьевский",{"$f":"[1]Лист1!C113","v":"МАОУ Гимназия №5"},{"$f":"[1]Лист1!D113","v":"Даминов"},{"$f":"[1]Лист1!E113","v":"Алишер"},{"$f":"[1]Лист1!H113","v":8},null,null,{"$f":"[1]Лист1!I113","v":20},null,null,56,"участник"]
[{"$f":"[1]Лист1!B114","v":111},"Альметьевский",{"$f":"[1]Лист1!C114","v":"МАОУ Гимназия №5"},{"$f":"[1]Лист1!D114","v":"Бетгер"},{"$f":"[1]Лист1!E114","v":"Анна"},{"$f":"[1]Лист1!H114","v":8},null,null,{"$f":"[1]Лист1!I114","v":19},null,null,56,"участник"]
[{"$f":"[1]Лист1!B115","v":112},"Альметьевский",{"$f":"[1]Лист1!C115","v":"МАОУ «Гимназия №5»"},{"$f":"[1]Лист1!D115","v":"Мустафина"},{"$f":"[1]Лист1!E115","v":"Идель"},{"$f":"[1]Лист1!H115","v":8},null,null,{"$f":"[1]Лист1!I115","v":18.5},null,null,56,"участник"]
[{"$f":"[1]Лист1!B116","v":113},"Альметьевский",{"$f":"[1]Лист1!C116","v":"МАОУ «СОШ№16»"},{"$f":"[1]Лист1!D116","v":"Валеева"},{"$f":"[1]Лист1!E116","v":"Рената"},{"$f":"[1]Лист1!H116","v":8},null,null,{"$f":"[1]Лист1!I116","v":17.5},null,null,56,"участник"]
[{"$f":"[1]Лист1!B117","v":114},"Альметьевский",{"$f":"[1]Лист1!C117","v":"МБОУ \"СОШ №4\""},{"$f":"[1]Лист1!D117","v":"Сафиуллин"},{"$f":"[1]Лист1!E117","v":"Вадим"},{"$f":"[1]Лист1!H117","v":8},null,null,{"$f":"[1]Лист1!I117","v":13},null,null,56,"участник"]
[{"$f":"[1]Лист1!B118","v":115},"Альметьевский",{"$f":"[1]Лист1!C118","v":"МБОУ\" Нижнемактаминская СОШ№2\""},{"$f":"[1]Лист1!D118","v":"Зарипова"},{"$f":"[1]Лист1!E118","v":"Эльвина"},{"$f":"[1]Лист1!H118","v":8},null,null,{"$f":"[1]Лист1!I118","v":7.5},null,null,56,"участник"]
[{"$f":"[1]Лист1!B119","v":116},"Альметьевский",{"$f":"[1]Лист1!C119","v":"МАОУ – лицей №2"},{"$f":"[1]Лист1!D119","v":"Груздева"},{"$f":"[1]Лист1!E119","v":"Арина"},{"$f":"[1]Лист1!H119","v":9},null,null,{"$f":"[1]Лист1!I119","v":44.5},null,null,63,{"$f":"$M$119","v":"призер "}]
[{"$f":"[1]Лист1!B120","v":117},"Альметьевский",{"$f":"[1]Лист1!C120","v":"МАОУ \"СОШ№7\""},{"$f":"[1]Лист1!D120","v":"Шакирова"},{"$f":"[1]Лист1!E120","v":"Аделина"},{"$f":"[1]Лист1!H120","v":9},null,null,{"$f":"[1]Лист1!I120","v":39},null,null,{"$f":"$L$118","v":63},{"$f":"[1]Лист1!J120","v":"призер "}]
[{"$f":"[1]Лист1!B121","v":118},"Альметьевский",{"$f":"[1]Лист1!C121","v":"МАОУ «Лицей №2»"},{"$f":"[1]Лист1!D121","v":"Гарифуллина"},{"$f":"[1]Лист1!E121","v":"Дарина"},{"$f":"[1]Лист1!H121","v":9},null,null,{"$f":"[1]Лист1!I121","v":38.5},null,null,63,{"$f":"[1]Лист1!J121","v":"призер "}]
[{"$f":"[1]Лист1!B122","v":119},"Альметьевский",{"$f":"[1]Лист1!C122","v":"МАОУ «Лицей №2»"},{"$f":"[1]Лист1!D122","v":"Шафигуллина"},{"$f":"[1]Лист1!E122","v":"Алина"},{"$f":"[1]Лист1!H122","v":9},null,null,{"$f":"[1]Лист1!I122","v":38},null,null,63,{"$f":"[1]Лист1!J122","v":"призер "}]
[{"$f":"[1]Лист1!B123","v":120},"Альметьевский",{"$f":"[1]Лист1!C123","v":"МБОУ «СОШ №11»"},{"$f":"[1]Лист1!D123","v":"Шарипова"},{"$f":"[1]Лист1!E123","v":"Ралина"},{"$f":"[1]Лист1!H123","v":9},null,null,{"$f":"[1]Лист1!I123","v":37},null,null,63,{"$f":"[1]Лист1!J123","v":"призер "}]
[{"$f":"[1]Лист1!B124","v":121},"Альметьевский",{"$f":"[1]Лист1!C124","v":"МАОУ – лицей №2"},{"$f":"[1]Лист1!D124","v":"Мартынова"},{"$f":"[1]Лист1!E124","v":"Юлия"},{"$f":"[1]Лист1!H124","v":9},null,null,{"$f":"[1]Лист1!I124","v":35.75},null,null,63,{"$f":"[1]Лист1!J124","v":"призер "}]
[{"$f":"[1]Лист1!B125","v":122},"Альметьевский",{"$f":"[1]Лист1!C125","v":"МАОУ «Лицей №2»"},{"$f":"[1]Лист1!D125","v":"Семёнова"},{"$f":"[1]Лист1!E125","v":"Софья"},{"$f":"[1]Лист1!H125","v":9},null,null,{"$f":"[1]Лист1!I125","v":35.5},null,null,63,{"$f":"[1]Лист1!J125","v":"призер "}]
[{"$f":"[1]Лист1!B126","v":123},"Альметьевский",{"$f":"[1]Лист1!C126","v":"МАОУ «Лицей №2»"},{"$f":"[1]Лист1!D126","v":"Дуванова"},{"$f":"[1]Лист1!E126","v":"Агата"},{"$f":"[1]Лист1!H126","v":9},null,null,{"$f":"[1]Лист1!I126","v":35},null,null,63,{"$f":"[1]Лист1!J126","v":"призер "}]
[{"$f":"[1]Лист1!B127","v":124},"Альметьевский",{"$f":"[1]Лист1!C127","v":"МБОУ «Гимназия №1 им.Р.Фахретдина»"},{"$f":"[1]Лист1!D127","v":"Гиниятуллина"},{"$f":"[1]Лист1!E127","v":"Камиля"},{"$f":"[1]Лист1!H127","v":9},null,null,{"$f":"[1]Лист1!I127","v":33.5},null,null,63,{"$f":"[1]Лист1!J127","v":"призер "}]
[{"$f":"[1]Лист1!B128","v":125},"Альметьевский",{"$f":"[1]Лист1!C128","v":"МБОУ «СОШ №11»"},{"$f":"[1]Лист1!D128","v":"Имаева"},{"$f":"[1]Лист1!E128","v":"Юлия"},{"$f":"[1]Лист1!H128","v":9},null,null,{"$f":"[1]Лист1!I128","v":33},null,null,63,{"$f":"[1]Лист1!J128","v":"призер "}]
[{"$f":"[1]Лист1!B129","v":126},"Альметьевский",{"$f":"[1]Лист1!C129","v":"МАОУ «Лицей №2»"},{"$f":"[1]Лист1!D129","v":"Шафикова"},{"$f":"[1]Лист1!E129","v":"Эмилия"},{"$f":"[1]Лист1!H129","v":9},null,null,{"$f":"[1]Лист1!I129","v":33},null,null,63,{"$f":"[1]Лист1!J129","v":"призер "}]
[{"$f":"[1]Лист1!B130","v":127},"Альметьевский",{"$f":"[1]Лист1!C130","v":"МАОУ «СОШ №10 с углубленным изучением отдельных предметов»"},{"$f":"[1]Лист1!D130","v":"Рахматуллина"},{"$f":"[1]Лист1!E130","v":"Карина"},{"$f":"[1]Лист1!H130","v":9},null,null,{"$f":"[1]Лист1!I130","v":32},null,null,63,{"$f":"[1]Лист1!J130","v":"призер "}]
[{"$f":"[1]Лист1!B131","v":128},"Альметьевский",{"$f":"[1]Лист1!C131","v":"МАОУ Гимназия №5"},{"$f":"[1]Лист1!D131","v":"Касатова"},{"$f":"[1]Лист1!E131","v":"Амина"},{"$f":"[1]Лист1!H131","v":9},null,null,{"$f":"[1]Лист1!I131","v":32},null,null,63,{"$f":"[1]Лист1!J131","v":"призер "}]
[{"$f":"[1]Лист1!B132","v":129},"Альметьевский",{"$f":"[1]Лист1!C132","v":"МБОУ \"СОШ №6\""},{"$f":"[1]Лист1!D132","v":"Галимова"},{"$f":"[1]Лист1!E132","v":"Лейла"},{"$f":"[1]Лист1!H132","v":9},null,null,{"$f":"[1]Лист1!I132","v":31.5},null,null,63,{"$f":"[1]Лист1!J132","v":"призер "}]
[{"$f":"[1]Лист1!B133","v":130},{"$f":"$B$3","v":"Альметьевский"},{"$f":"[1]Лист1!C133","v":"МАОУ Гимназия №5"},{"$f":"[1]Лист1!D133","v":"Степанова"},{"$f":"[1]Лист1!E133","v":"Кира"},{"$f":"[1]Лист1!H133","v":9},null,null,{"$f":"[1]Лист1!I133","v":31},null,null,63,{"$f":"$M$5","v":"участник"}]
[{"$f":"[1]Лист1!B134","v":131},"Альметьевский",{"$f":"[1]Лист1!C134","v":"МАОУ «Лицей-интернат №1»"},{"$f":"[1]Лист1!D134","v":"Зарипов"},{"$f":"[1]Лист1!E134","v":"Амир"},{"$f":"[1]Лист1!H134","v":9},null,null,{"$f":"[1]Лист1!I134","v":30.5},null,null,63,"участник"]
[{"$f":"[1]Лист1!B135","v":132},"Альметьевский",{"$f":"[1]Лист1!C135","v":"МАОУ «СОШ№17»"},{"$f":"[1]Лист1!D135","v":"Дубровина"},{"$f":"[1]Лист1!E135","v":"Кристина"},{"$f":"[1]Лист1!H135","v":9},null,null,{"$f":"[1]Лист1!I135","v":30},null,null,63,"участник"]
[{"$f":"[1]Лист1!B136","v":133},"Альметьевский",{"$f":"[1]Лист1!C136","v":"МБОУ «СОШ №20»"},{"$f":"[1]Лист1!D136","v":"Фархутдинова"},{"$f":"[1]Лист1!E136","v":"Регина"},{"$f":"[1]Лист1!H136","v":9},null,null,{"$f":"[1]Лист1!I136","v":28},null,null,63,"участник"]
[{"$f":"[1]Лист1!B137","v":134},"Альметьевский",{"$f":"[1]Лист1!C137","v":"МБОУ «СОШ №11»"},{"$f":"[1]Лист1!D137","v":"Валиева"},{"$f":"[1]Лист1!E137","v":"Диана"},{"$f":"[1]Лист1!H137","v":9},null,null,{"$f":"[1]Лист1!I137","v":28},null,null,63,"участник"]
[{"$f":"[1]Лист1!B138","v":135},"Альметьевский",{"$f":"[1]Лист1!C138","v":"МАОУ «Лицей №2»"},{"$f":"[1]Лист1!D138","v":"Хабибуллина"},{"$f":"[1]Лист1!E138","v":"Леана"},{"$f":"[1]Лист1!H138","v":9},null,null,{"$f":"[1]Лист1!I138","v":26},null,null,63,"участник"]
[{"$f":"[1]Лист1!B139","v":136},"Альметьевский",{"$f":"[1]Лист1!C139","v":"МАОУ «СОШ №10 с углубленным изучением отдельных предметов»"},{"$f":"[1]Лист1!D139","v":"Жирнова"},{"$f":"[1]Лист1!E139","v":"Елизавета"},{"$f":"[1]Лист1!H139","v":9},null,null,{"$f":"[1]Лист1!I139","v":25.5},null,null,63,"участник"]
[{"$f":"[1]Лист1!B140","v":137},"Альметьевский",{"$f":"[1]Лист1!C140","v":"МБОУ «Гимназия №1 им.Р.Фахретдина»"},{"$f":"[1]Лист1!D140","v":"Латыпова"},{"$f":"[1]Лист1!E140","v":"Алина"},{"$f":"[1]Лист1!H140","v":9},null,null,{"$f":"[1]Лист1!I140","v":25.5},null,null,63,"участник"]
[{"$f":"[1]Лист1!B141","v":138},"Альметьевский",{"$f":"[1]Лист1!C141","v":"МАОУ «Лицей №2»"},{"$f":"[1]Лист1!D141","v":"Храмова"},{"$f":"[1]Лист1!E141","v":"Юлия"},{"$f":"[1]Лист1!H141","v":9},null,null,{"$f":"[1]Лист1!I141","v":24.5},null,null,63,"участник"]
[{"$f":"[1]Лист1!B142","v":139},"Альметьевский",{"$f":"[1]Лист1!C142","v":"МБОУ «СОШ №24»"},{"$f":"[1]Лист1!D142","v":"Никитенкова"},{"$f":"[1]Лист1!E142","v":"Софья"},{"$f":"[1]Лист1!H142","v":9},null,null,{"$f":"[1]Лист1!I142","v":24.5},null,null,63,"участник"]
[{"$f":"[1]Лист1!B143","v":140},"Альметьевский",{"$f":"[1]Лист1!C143","v":"МАОУ Гимназия №5"},{"$f":"[1]Лист1!D143","v":"Рузанова"},{"$f":"[1]Лист1!E143","v":"Елизавета"},{"$f":"[1]Лист1!H143","v":9},null,null,{"$f":"[1]Лист1!I143","v":23.5},null,null,63,"участник"]
[{"$f":"[1]Лист1!B144","v":141},"Альметьевский",{"$f":"[1]Лист1!C144","v":"МБОУ \"СОШ №25 имени 70-летия нефти Татарстана"},{"$f":"[1]Лист1!D144","v":"Фомичева"},{"$f":"[1]Лист1!E144","v":"Дарья"},{"$f":"[1]Лист1!H144","v":9},null,null,{"$f":"[1]Лист1!I144","v":23},null,null,63,"участник"]
[{"$f":"[1]Лист1!B145","v":142},"Альметьевский",{"$f":"[1]Лист1!C145","v":"МАОУ Гимназия №5"},{"$f":"[1]Лист1!D145","v":"Бузаева"},{"$f":"[1]Лист1!E145","v":"Виктория"},{"$f":"[1]Лист1!H145","v":9},null,null,{"$f":"[1]Лист1!I145","v":23},null,null,63,"участник"]
[{"$f":"[1]Лист1!B146","v":143},"Альметьевский",{"$f":"[1]Лист1!C146","v":"МАОУ \"СОШ№7\""},{"$f":"[1]Лист1!D146","v":"Трунина"},{"$f":"[1]Лист1!E146","v":"Ксения"},{"$f":"[1]Лист1!H146","v":9},null,null,{"$f":"[1]Лист1!I146","v":21.5},null,null,63,"участник"]
[{"$f":"[1]Лист1!B147","v":144},"Альметьевский",{"$f":"[1]Лист1!C147","v":"МБОУ \"СОШ №25 имени 70-летия нефти Татарстана"},{"$f":"[1]Лист1!D147","v":"Хабибуллина"},{"$f":"[1]Лист1!E147","v":"Эльвина"},{"$f":"[1]Лист1!H147","v":9},null,null,{"$f":"[1]Лист1!I147","v":21},null,null,63,"участник"]
[{"$f":"[1]Лист1!B148","v":145},"Альметьевский",{"$f":"[1]Лист1!C148","v":"МАОУ «СОШ№17»"},{"$f":"[1]Лист1!D148","v":"Уткина"},{"$f":"[1]Лист1!E148","v":"Регина"},{"$f":"[1]Лист1!H148","v":9},null,null,{"$f":"[1]Лист1!I148","v":18.5},null,null,63,"участник"]
[{"$f":"[1]Лист1!B149","v":146},"Альметьевский",{"$f":"[1]Лист1!C149","v":"МАОУ «СОШ№16»"},{"$f":"[1]Лист1!D149","v":"Фатыхова"},{"$f":"[1]Лист1!E149","v":"Динара "},{"$f":"[1]Лист1!H149","v":9},null,null,{"$f":"[1]Лист1!I149","v":16.5},null,null,63,"участник"]
[{"$f":"[1]Лист1!B150","v":147},"Альметьевский",{"$f":"[1]Лист1!C150","v":"МБОУ\"Нижнемактаминская СОШ№2\""},{"$f":"[1]Лист1!D150","v":"Киселёва"},{"$f":"[1]Лист1!E150","v":"Эвелина"},{"$f":"[1]Лист1!H150","v":9},null,null,{"$f":"[1]Лист1!I150","v":16},null,null,63,"участник"]
[{"$f":"[1]Лист1!B151","v":148},"Альметьевский",{"$f":"[1]Лист1!C151","v":"МБОУ «СОШ№13»"},{"$f":"[1]Лист1!D151","v":"Нигматуллин"},{"$f":"[1]Лист1!E151","v":"Ильнар "},{"$f":"[1]Лист1!H151","v":9},null,null,{"$f":"[1]Лист1!I151","v":16},null,null,63,"участник"]
[{"$f":"[1]Лист1!B152","v":149},"Альметьевский",{"$f":"[1]Лист1!C152","v":"МБОУ «СОШ№13»"},{"$f":"[1]Лист1!D152","v":"Корешков"},{"$f":"[1]Лист1!E152","v":"Данил"},{"$f":"[1]Лист1!H152","v":9},null,null,{"$f":"[1]Лист1!I152","v":16},null,null,{"$f":"$L$118","v":63},"участник"]
[{"$f":"[1]Лист1!B153","v":150},"Альметьевский",{"$f":"[1]Лист1!C153","v":"МБОУ\"Нижнемактаминская СОШ№2\""},{"$f":"[1]Лист1!D153","v":"Зиатдинов"},{"$f":"[1]Лист1!E153","v":"Айнур"},{"$f":"[1]Лист1!H153","v":9},null,null,{"$f":"[1]Лист1!I153","v":13.5},null,null,63,"участник"]
[{"$f":"[1]Лист1!B154","v":151},"Альметьевский",{"$f":"[1]Лист1!C154","v":"МБОУ «СОШ№12»"},{"$f":"[1]Лист1!D154","v":"Осинцева"},{"$f":"[1]Лист1!E154","v":"Екатерина"},{"$f":"[1]Лист1!H154","v":10},null,null,{"$f":"[1]Лист1!I154","v":43},null,null,63,{"$f":"$M$154","v":"призер"}]
[{"$f":"[1]Лист1!B155","v":152},"Альметьевский",{"$f":"[1]Лист1!C155","v":"МБОУ «Гимназия №1 им.Р.Фахретдина»"},{"$f":"[1]Лист1!D155","v":"Шалямов"},{"$f":"[1]Лист1!E155","v":"Никита"},{"$f":"[1]Лист1!H155","v":10},null,null,{"$f":"[1]Лист1!I155","v":42},null,null,63,{"$f":"[1]Лист1!J155","v":"призер"}]
[{"$f":"[1]Лист1!B156","v":153},"Альметьевский",{"$f":"[1]Лист1!C156","v":"МБОУ\"Нижнемактаминская СОШ№2\""},{"$f":"[1]Лист1!D156","v":"Гарипова"},{"$f":"[1]Лист1!E156","v":"Ляйсан"},{"$f":"[1]Лист1!H156","v":10},null,null,{"$f":"[1]Лист1!I156","v":37},null,null,63,{"$f":"[1]Лист1!J156","v":"призер"}]
[{"$f":"[1]Лист1!B157","v":154},"Альметьевский",{"$f":"[1]Лист1!C157","v":"МБОУ «СОШ№12»"},{"$f":"[1]Лист1!D157","v":"Дущенко"},{"$f":"[1]Лист1!E157","v":"Полина "},{"$f":"[1]Лист1!H157","v":10},null,null,{"$f":"[1]Лист1!I157","v":35.5},null,null,63,{"$f":"[1]Лист1!J157","v":"призер"}]
[{"$f":"[1]Лист1!B158","v":155},"Альметьевский",{"$f":"[1]Лист1!C158","v":"МБОУ «СОШ №24»"},{"$f":"[1]Лист1!D158","v":"Сунгатуллина"},{"$f":"[1]Лист1!E158","v":"Карина "},{"$f":"[1]Лист1!H158","v":10},null,null,{"$f":"[1]Лист1!I158","v":30.5},{"$f":"[2]тестовый!K271","v":0.5},{"$f":"[2]тестовый!L271","v":31},63,{"$f":"$M$5","v":"участник"}]
[{"$f":"[1]Лист1!B159","v":156},"Альметьевский",{"$f":"[1]Лист1!C159","v":"МБОУ «Гимназия №1 им.Р.Фахретдина»"},{"$f":"[1]Лист1!D159","v":"Авхадиева"},{"$f":"[1]Лист1!E159","v":"Ляйсан"},{"$f":"[1]Лист1!H159","v":10},null,null,{"$f":"[1]Лист1!I159","v":28},null,null,63,"участник"]
[{"$f":"[1]Лист1!B160","v":157},"Альметьевский",{"$f":"[1]Лист1!C160","v":"МАОУ «СОШ№16»"},{"$f":"[1]Лист1!D160","v":"Гимранова"},{"$f":"[1]Лист1!E160","v":"Аделия"},{"$f":"[1]Лист1!H160","v":10},null,null,{"$f":"[1]Лист1!I160","v":27.5},null,null,63,"участник"]
[{"$f":"[1]Лист1!B161","v":158},"Альметьевский",{"$f":"[1]Лист1!C161","v":"МБОУ «СОШ №20»"},{"$f":"[1]Лист1!D161","v":"Леванова"},{"$f":"[1]Лист1!E161","v":"Анастасия"},{"$f":"[1]Лист1!H161","v":10},null,null,{"$f":"[1]Лист1!I161","v":26.5},null,null,63,"участник"]
[{"$f":"[1]Лист1!B162","v":159},"Альметьевский",{"$f":"[1]Лист1!C162","v":"МАОУ – лицей №2"},{"$f":"[1]Лист1!D162","v":"Сабирова"},{"$f":"[1]Лист1!E162","v":"Алина"},{"$f":"[1]Лист1!H162","v":10},null,null,{"$f":"[1]Лист1!I162","v":26},null,null,63,"участник"]
[{"$f":"[1]Лист1!B163","v":160},"Альметьевский",{"$f":"[1]Лист1!C163","v":"МАОУ «СОШ№17»"},{"$f":"[1]Лист1!D163","v":"Шаяхметова"},{"$f":"[1]Лист1!E163","v":"Раделя"},{"$f":"[1]Лист1!H163","v":10},null,null,{"$f":"[1]Лист1!I163","v":22.5},null,null,63,"участник"]
[{"$f":"[1]Лист1!B164","v":161},"Альметьевский",{"$f":"[1]Лист1!C164","v":"МБОУ\"НижнемактаминскаяСОШ№2\""},{"$f":"[1]Лист1!D164","v":"Баландин"},{"$f":"[1]Лист1!E164","v":"Кирилл"},{"$f":"[1]Лист1!H164","v":10},null,null,{"$f":"[1]Лист1!I164","v":25},null,null,63,"участник"]
[{"$f":"[1]Лист1!B165","v":162},{"$f":"$B$3","v":"Альметьевский"},{"$f":"[1]Лист1!C165","v":"МБОУ «СОШ№13»"},{"$f":"[1]Лист1!D165","v":"Чупина"},{"$f":"[1]Лист1!E165","v":"Анастасия"},{"$f":"[1]Лист1!H165","v":10},null,null,{"$f":"[1]Лист1!I165","v":22.5},null,null,63,"участник"]
[{"$f":"[1]Лист1!B166","v":163},"Альметьевский",{"$f":"[1]Лист1!C166","v":"МАОУ «Гимназия №5»"},{"$f":"[1]Лист1!D166","v":"Андреичева"},{"$f":"[1]Лист1!E166","v":"Оксана "},{"$f":"[1]Лист1!H166","v":10},null,null,{"$f":"[1]Лист1!I166","v":21.5},null,null,63,"участник"]
[{"$f":"[1]Лист1!B167","v":164},"Альметьевский",{"$f":"[1]Лист1!C167","v":"МБОУ \"СОШ \"25 имени 70-летия нефти Татарстана\""},{"$f":"[1]Лист1!D167","v":"Шириазданова"},{"$f":"[1]Лист1!E167","v":"Азалия"},{"$f":"[1]Лист1!H167","v":10},null,null,{"$f":"[1]Лист1!I167","v":21},null,null,63,"участник"]
[{"$f":"[1]Лист1!B168","v":165},"Альметьевский",{"$f":"[1]Лист1!C168","v":"МБОУ \"СОШ \"25 имени 70-летия нефти Татарстана\""},{"$f":"[1]Лист1!D168","v":"Галиева"},{"$f":"[1]Лист1!E168","v":"Азалия"},{"$f":"[1]Лист1!H168","v":10},null,null,{"$f":"[1]Лист1!I168","v":19.5},null,null,63,"участник"]
[{"$f":"[1]Лист1!B169","v":166},"Альметьевский",{"$f":"[1]Лист1!C169","v":"МБОУ\"Нижнемактаминская СОШ№2\""},{"$f":"[1]Лист1!D169","v":"Халиков"},{"$f":"[1]Лист1!E169","v":"Карим"},{"$f":"[1]Лист1!H169","v":10},null,null,{"$f":"[1]Лист1!I169","v":19.5},null,null,63,"участник"]
[{"$f":"[1]Лист1!B170","v":167},"Альметьевский",{"$f":"[1]Лист1!C170","v":"МБОУ \"Нижнемактаминская СОШ №1\""},{"$f":"[1]Лист1!D170","v":"Баязитова"},{"$f":"[1]Лист1!E170","v":"Алия"},{"$f":"[1]Лист1!H170","v":10},null,null,{"$f":"[1]Лист1!I170","v":18.5},null,null,63,"участник"]
[{"$f":"[1]Лист1!B171","v":168},"Альметьевский",{"$f":"[1]Лист1!C171","v":"МАОУ – лицей №2"},{"$f":"[1]Лист1!D171","v":"Галиуллина"},{"$f":"[1]Лист1!E171","v":"Диана"},{"$f":"[1]Лист1!H171","v":11},null,null,{"$f":"[1]Лист1!I171","v":52},{"$f":"[2]тестовый!K284","v":1.5},{"$f":"[2]тестовый!L284","v":53.5},63,{"$f":"[1]Лист1!J171","v":"победитель"}]
[{"$f":"[1]Лист1!B172","v":169},"Альметьевский",{"$f":"[1]Лист1!C172","v":"МБОУ «Гимназия №1 им.Р.Фахретдина»"},{"$f":"[1]Лист1!D172","v":"Галеева"},{"$f":"[1]Лист1!E172","v":"Лейсан"},{"$f":"[1]Лист1!H172","v":11},null,null,{"$f":"[1]Лист1!I172","v":42},null,null,63,{"$f":"[1]Лист1!J172","v":"призер"}]
[{"$f":"[1]Лист1!B173","v":170},"Альметьевский",{"$f":"[1]Лист1!C173","v":"МАОУ \"СОШ\"7\""},{"$f":"[1]Лист1!D173","v":"Зарипова"},{"$f":"[1]Лист1!E173","v":"Азалия"},{"$f":"[1]Лист1!H173","v":11},null,null,{"$f":"[1]Лист1!I173","v":39},null,null,63,{"$f":"[1]Лист1!J173","v":"призер"}]
[{"$f":"[1]Лист1!B174","v":171},"Альметьевский",{"$f":"[1]Лист1!C174","v":"МАОУ Гимназия №5"},{"$f":"[1]Лист1!D174","v":"Музафарова"},{"$f":"[1]Лист1!E174","v":"Аида"},{"$f":"[1]Лист1!H174","v":11},null,null,{"$f":"[1]Лист1!I174","v":36},null,null,63,{"$f":"[1]Лист1!J174","v":"призер"}]
[{"$f":"[1]Лист1!B175","v":172},"Альметьевский",{"$f":"[1]Лист1!C175","v":"МБОУ \"СОШ №11\""},{"$f":"[1]Лист1!D175","v":"Шайхулисламова"},{"$f":"[1]Лист1!E175","v":"Алия"},{"$f":"[1]Лист1!H175","v":11},null,null,{"$f":"[1]Лист1!I175","v":33.5},null,null,63,{"$f":"[1]Лист1!J175","v":"призер"}]
[{"$f":"[1]Лист1!B176","v":173},"Альметьевский",{"$f":"[1]Лист1!C176","v":"МАОУ Гимназия №5"},{"$f":"[1]Лист1!D176","v":"Апрелева"},{"$f":"[1]Лист1!E176","v":"Арина"},{"$f":"[1]Лист1!H176","v":11},null,null,{"$f":"[1]Лист1!I176","v":31},null,null,63,{"$f":"$M$5","v":"участник"}]
[{"$f":"[1]Лист1!B177","v":174},"Альметьевский",{"$f":"[1]Лист1!C177","v":"МАОУ «Лицей-интернат №1»"},{"$f":"[1]Лист1!D177","v":"Ахметзянов"},{"$f":"[1]Лист1!E177","v":"Абдулла"},{"$f":"[1]Лист1!H177","v":11},null,null,{"$f":"[1]Лист1!I177","v":25},null,null,63,"участник"]
[{"$f":"[1]Лист1!B178","v":175},"Альметьевский",{"$f":"[1]Лист1!C178","v":"МБОУ «СОШ №20»"},{"$f":"[1]Лист1!D178","v":"Тимофеева"},{"$f":"[1]Лист1!E178","v":"Яна"},{"$f":"[1]Лист1!H178","v":11},null,null,{"$f":"[1]Лист1!I178","v":25},null,null,63,"участник"]
[{"$f":"[1]Лист1!B179","v":176},"Альметьевский",{"$f":"[1]Лист1!C179","v":"МБОУ\"Нижнемактаминская СОШ№2\""},{"$f":"[1]Лист1!D179","v":"Суербаева"},{"$f":"[1]Лист1!E179","v":"Эльвина"},{"$f":"[1]Лист1!H179","v":11},null,null,{"$f":"[1]Лист1!I179","v":24},null,null,63,"участник"]
[{"$f":"[1]Лист1!B180","v":177},"Альметьевский",{"$f":"[1]Лист1!C180","v":"МБОУ\"Нижнемактами-нская СОШ№2\""},{"$f":"[1]Лист1!D180","v":"Зарипова"},{"$f":"[1]Лист1!E180","v":"Ляйсан"},{"$f":"[1]Лист1!H180","v":11},null,null,{"$f":"[1]Лист1!I180","v":22},null,null,63,"участник"]
[{"$f":"[1]Лист1!B181","v":178},"Альметьевский",{"$f":"[1]Лист1!C181","v":"МБОУ\"НижнемактаминскаяСОШ №1\""},{"$f":"[1]Лист1!D181","v":"Сулейманова"},{"$f":"[1]Лист1!E181","v":"Илюза"},{"$f":"[1]Лист1!H181","v":11},null,null,{"$f":"[1]Лист1!I181","v":20.5},null,null,63,"участник"]
[{"$f":"[1]Лист1!B182","v":179},"Альметьевский",{"$f":"[1]Лист1!C182","v":"МБОУ \"СОШ №4\""},{"$f":"[1]Лист1!D182","v":"Сунгатова"},{"$f":"[1]Лист1!E182","v":"Рената"},{"$f":"[1]Лист1!H182","v":11},null,null,{"$f":"[1]Лист1!I182","v":19},null,null,63,"участник"]